BEGIN:VCALENDAR
VERSION:2.0
PRODID:-//TYPO3/NONSGML News system (news)//EN
BEGIN:VEVENT
TZID:Central Europe Standard Time
UID:news-63058@raumplanung.tu-dortmund.de
DTSTAMP:20260422T103152Z

DTSTART:20260504T140000
DTEND:20260504T160000


LOCATION:Online via Zoom

DESCRIPTION:https://raumplanung.tu-dortmund.de/veranstaltungsdetail/guest-lecture-with-dr-nina-gribat-63058/
SUMMARY:Guest Lecture with Dr. Nina Gribat
END:VEVENT
END:VCALENDAR
