BEGIN:VCALENDAR
VERSION:2.0
PRODID:-//TYPO3/NONSGML News system (news)//EN
BEGIN:VEVENT
TZID:Central Europe Standard Time
UID:news-63063@raumplanung.tu-dortmund.de
DTSTAMP:20260422T103254Z

DTSTART:20260706T140000
DTEND:20260706T160000


LOCATION:GBI, Raum 3.410

DESCRIPTION:https://raumplanung.tu-dortmund.de/veranstaltungsdetail/guest-lecture-with-dr-alexander-jachnow-1-63063/
SUMMARY:Guest Lecture with Dr. Alexander Jachnow
END:VEVENT
END:VCALENDAR
