BEGIN:VCALENDAR
VERSION:2.0
PRODID:-//TYPO3/NONSGML News system (news)//EN
BEGIN:VEVENT
TZID:Central Europe Standard Time
UID:news-63061@raumplanung.tu-dortmund.de
DTSTAMP:20260422T102116Z

DTSTART:20260615T140000
DTEND:20260615T160000


LOCATION:GBI, Raum 3.410

DESCRIPTION:https://raumplanung.tu-dortmund.de/en/veranstaltungsdetail/guest-lecture-with-prof-bossissi-nkuba-63061/
SUMMARY:Guest Lecture with Prof. Bossissi Nkuba
END:VEVENT
END:VCALENDAR
